BEGIN:VCALENDAR
VERSION:2.0
PRODID:-//Dan&#039;s Irish Sports Bar | Walnut Creek, CA - ECPv4.2.3//NONSGML v1.0//EN
CALSCALE:GREGORIAN
METHOD:PUBLISH
X-WR-CALNAME:Dan&#039;s Irish Sports Bar | Walnut Creek, CA
X-ORIGINAL-URL:http://dansbar.com
X-WR-CALDESC:Events for Dan&#039;s Irish Sports Bar | Walnut Creek, CA
BEGIN:VEVENT
DTSTART;TZID=America/Los_Angeles:20210910T213000
DTEND;TZID=America/Los_Angeles:20210910T230000
DTSTAMP:20260425T001344
CREATED:20210714T220410
LAST-MODIFIED:20210714T220410
UID:2234-1631309400-1631314800@dansbar.com
SUMMARY:The Unoriginals
DESCRIPTION:Rock party
URL:http://dansbar.com/event/the-unoriginals/
END:VEVENT
END:VCALENDAR