BEGIN:VCALENDAR
VERSION:2.0
PRODID:-//Dan&#039;s Irish Sports Bar | Walnut Creek, CA - ECPv4.2.3//NONSGML v1.0//EN
CALSCALE:GREGORIAN
METHOD:PUBLISH
X-WR-CALNAME:Dan&#039;s Irish Sports Bar | Walnut Creek, CA
X-ORIGINAL-URL:http://dansbar.com
X-WR-CALDESC:Events for Dan&#039;s Irish Sports Bar | Walnut Creek, CA
BEGIN:VEVENT
DTSTART;TZID=America/Los_Angeles:20210917T213000
DTEND;TZID=America/Los_Angeles:20210917T230000
DTSTAMP:20260424T235917
CREATED:20210521T210808
LAST-MODIFIED:20210521T210808
UID:2197-1631914200-1631919600@dansbar.com
SUMMARY:The Spazmatics
DESCRIPTION:Playing their 80s show!
URL:http://dansbar.com/event/the-spazmatics-85/
END:VEVENT
END:VCALENDAR