BEGIN:VCALENDAR
VERSION:2.0
PRODID:-//Dan&#039;s Irish Sports Bar | Walnut Creek, CA - ECPv4.2.3//NONSGML v1.0//EN
CALSCALE:GREGORIAN
METHOD:PUBLISH
X-WR-CALNAME:Dan&#039;s Irish Sports Bar | Walnut Creek, CA
X-ORIGINAL-URL:http://dansbar.com
X-WR-CALDESC:Events for Dan&#039;s Irish Sports Bar | Walnut Creek, CA
BEGIN:VEVENT
DTSTART;TZID=America/Los_Angeles:20201024T220000
DTEND;TZID=America/Los_Angeles:20201024T230000
DTSTAMP:20260425T102324
CREATED:20200218T001317
LAST-MODIFIED:20200218T001317
UID:2136-1603576800-1603580400@dansbar.com
SUMMARY:The Spazmatics
DESCRIPTION:80s party
URL:http://dansbar.com/event/the-spazmatics-79/
END:VEVENT
END:VCALENDAR