BEGIN:VCALENDAR
VERSION:2.0
PRODID:-//Dan&#039;s Irish Sports Bar | Walnut Creek, CA - ECPv4.2.3//NONSGML v1.0//EN
CALSCALE:GREGORIAN
METHOD:PUBLISH
X-WR-CALNAME:Dan&#039;s Irish Sports Bar | Walnut Creek, CA
X-ORIGINAL-URL:http://dansbar.com
X-WR-CALDESC:Events for Dan&#039;s Irish Sports Bar | Walnut Creek, CA
BEGIN:VEVENT
DTSTART;TZID=America/Los_Angeles:20210827T213000
DTEND;TZID=America/Los_Angeles:20210827T230000
DTSTAMP:20260425T013835
CREATED:20210521T204152
LAST-MODIFIED:20210521T204152
UID:2186-1630099800-1630105200@dansbar.com
SUMMARY:The Ripplers
DESCRIPTION:Rock party band
URL:http://dansbar.com/event/the-ripplers-8/
END:VEVENT
END:VCALENDAR