BEGIN:VCALENDAR
VERSION:2.0
PRODID:-//Dan&#039;s Irish Sports Bar | Walnut Creek, CA - ECPv4.2.3//NONSGML v1.0//EN
CALSCALE:GREGORIAN
METHOD:PUBLISH
X-WR-CALNAME:Dan&#039;s Irish Sports Bar | Walnut Creek, CA
X-ORIGINAL-URL:http://dansbar.com
X-WR-CALDESC:Events for Dan&#039;s Irish Sports Bar | Walnut Creek, CA
BEGIN:VEVENT
DTSTART;TZID=America/Los_Angeles:20201212T220000
DTEND;TZID=America/Los_Angeles:20201212T230000
DTSTAMP:20260425T120436
CREATED:20190930T231123
LAST-MODIFIED:20190930T231123
UID:2045-1607810400-1607814000@dansbar.com
SUMMARY:The Ripplers
DESCRIPTION:Rock n roll party\n
URL:http://dansbar.com/event/the-ripplers-10/
END:VEVENT
END:VCALENDAR