BEGIN:VCALENDAR
VERSION:2.0
PRODID:-//Dan&#039;s Irish Sports Bar | Walnut Creek, CA - ECPv4.2.3//NONSGML v1.0//EN
CALSCALE:GREGORIAN
METHOD:PUBLISH
X-WR-CALNAME:Dan&#039;s Irish Sports Bar | Walnut Creek, CA
X-ORIGINAL-URL:http://dansbar.com
X-WR-CALDESC:Events for Dan&#039;s Irish Sports Bar | Walnut Creek, CA
BEGIN:VEVENT
DTSTART;TZID=America/Los_Angeles:20200828T220000
DTEND;TZID=America/Los_Angeles:20200828T230000
DTSTAMP:20260425T135512
CREATED:20200109T234658
LAST-MODIFIED:20200109T234658
UID:2110-1598652000-1598655600@dansbar.com
SUMMARY:The Inflatables
DESCRIPTION:Rock party
URL:http://dansbar.com/event/the-inflatables-9/
END:VEVENT
END:VCALENDAR