BEGIN:VCALENDAR
VERSION:2.0
PRODID:-//Dan&#039;s Irish Sports Bar | Walnut Creek, CA - ECPv4.2.3//NONSGML v1.0//EN
CALSCALE:GREGORIAN
METHOD:PUBLISH
X-WR-CALNAME:Dan&#039;s Irish Sports Bar | Walnut Creek, CA
X-ORIGINAL-URL:http://dansbar.com
X-WR-CALDESC:Events for Dan&#039;s Irish Sports Bar | Walnut Creek, CA
BEGIN:VEVENT
DTSTART;TZID=America/Los_Angeles:20210904T213000
DTEND;TZID=America/Los_Angeles:20210904T230000
DTSTAMP:20260425T031123
CREATED:20210612T171311
LAST-MODIFIED:20210612T171311
UID:2212-1630791000-1630796400@dansbar.com
SUMMARY:Superbad
DESCRIPTION:rockin' dance party
URL:http://dansbar.com/event/superbad-12/
END:VEVENT
END:VCALENDAR