BEGIN:VCALENDAR
VERSION:2.0
PRODID:-//Dan&#039;s Irish Sports Bar | Walnut Creek, CA - ECPv4.2.3//NONSGML v1.0//EN
CALSCALE:GREGORIAN
METHOD:PUBLISH
X-WR-CALNAME:Dan&#039;s Irish Sports Bar | Walnut Creek, CA
X-ORIGINAL-URL:http://dansbar.com
X-WR-CALDESC:Events for Dan&#039;s Irish Sports Bar | Walnut Creek, CA
BEGIN:VEVENT
DTSTART;TZID=America/Los_Angeles:20200829T220000
DTEND;TZID=America/Los_Angeles:20200829T230000
DTSTAMP:20260425T120718
CREATED:20200109T234724
LAST-MODIFIED:20200109T234724
UID:2111-1598738400-1598742000@dansbar.com
SUMMARY:Stung
DESCRIPTION:A tribute to The Police
URL:http://dansbar.com/event/stung-16/
END:VEVENT
END:VCALENDAR