BEGIN:VCALENDAR
VERSION:2.0
PRODID:-//Dan&#039;s Irish Sports Bar | Walnut Creek, CA - ECPv4.2.3//NONSGML v1.0//EN
CALSCALE:GREGORIAN
METHOD:PUBLISH
X-WR-CALNAME:Dan&#039;s Irish Sports Bar | Walnut Creek, CA
X-ORIGINAL-URL:http://dansbar.com
X-WR-CALDESC:Events for Dan&#039;s Irish Sports Bar | Walnut Creek, CA
BEGIN:VEVENT
DTSTART;TZID=America/Los_Angeles:20211023T213000
DTEND;TZID=America/Los_Angeles:20211023T230000
DTSTAMP:20260424T222432
CREATED:20210705T223812
LAST-MODIFIED:20210705T223812
UID:2231-1635024600-1635030000@dansbar.com
SUMMARY:Steel Horse
DESCRIPTION:Tribute to Bon Jovi
URL:http://dansbar.com/event/steel-horse/
END:VEVENT
END:VCALENDAR