BEGIN:VCALENDAR
VERSION:2.0
PRODID:-//Dan&#039;s Irish Sports Bar | Walnut Creek, CA - ECPv4.2.3//NONSGML v1.0//EN
CALSCALE:GREGORIAN
METHOD:PUBLISH
X-WR-CALNAME:Dan&#039;s Irish Sports Bar | Walnut Creek, CA
X-ORIGINAL-URL:http://dansbar.com
X-WR-CALDESC:Events for Dan&#039;s Irish Sports Bar | Walnut Creek, CA
BEGIN:VEVENT
DTSTART;TZID=America/Los_Angeles:20200912T220000
DTEND;TZID=America/Los_Angeles:20200912T230000
DTSTAMP:20260425T120119
CREATED:20190930T233319
LAST-MODIFIED:20190930T233319
UID:2046-1599948000-1599951600@dansbar.com
SUMMARY:Roxy Lady
DESCRIPTION:Rock n roll party
URL:http://dansbar.com/event/roxy-lady/
END:VEVENT
END:VCALENDAR