BEGIN:VCALENDAR
VERSION:2.0
PRODID:-//Dan&#039;s Irish Sports Bar | Walnut Creek, CA - ECPv4.2.3//NONSGML v1.0//EN
CALSCALE:GREGORIAN
METHOD:PUBLISH
X-WR-CALNAME:Dan&#039;s Irish Sports Bar | Walnut Creek, CA
X-ORIGINAL-URL:http://dansbar.com
X-WR-CALDESC:Events for Dan&#039;s Irish Sports Bar | Walnut Creek, CA
BEGIN:VEVENT
DTSTART;TZID=America/Los_Angeles:20221118T213000
DTEND;TZID=America/Los_Angeles:20221118T230000
DTSTAMP:20260424T032639
CREATED:20221010T225043
LAST-MODIFIED:20221010T225043
UID:2410-1668807000-1668812400@dansbar.com
SUMMARY:Mad Apple
DESCRIPTION:Rock covers
URL:http://dansbar.com/event/mad-apple-5/
END:VEVENT
END:VCALENDAR