BEGIN:VCALENDAR
VERSION:2.0
PRODID:-//Dan&#039;s Irish Sports Bar | Walnut Creek, CA - ECPv4.2.3//NONSGML v1.0//EN
CALSCALE:GREGORIAN
METHOD:PUBLISH
X-WR-CALNAME:Dan&#039;s Irish Sports Bar | Walnut Creek, CA
X-ORIGINAL-URL:http://dansbar.com
X-WR-CALDESC:Events for Dan&#039;s Irish Sports Bar | Walnut Creek, CA
BEGIN:VEVENT
DTSTART;TZID=America/Los_Angeles:20210820T213000
DTEND;TZID=America/Los_Angeles:20210820T230000
DTSTAMP:20260425T031606
CREATED:20210617T183607
LAST-MODIFIED:20210617T183607
UID:2215-1629495000-1629500400@dansbar.com
SUMMARY:Hot Tub Time Machine
DESCRIPTION:80s!
URL:http://dansbar.com/event/hot-tub-time-machine-2/
END:VEVENT
END:VCALENDAR