BEGIN:VCALENDAR
VERSION:2.0
PRODID:-//Dan&#039;s Irish Sports Bar | Walnut Creek, CA - ECPv4.2.3//NONSGML v1.0//EN
CALSCALE:GREGORIAN
METHOD:PUBLISH
X-WR-CALNAME:Dan&#039;s Irish Sports Bar | Walnut Creek, CA
X-ORIGINAL-URL:http://dansbar.com
X-WR-CALDESC:Events for Dan&#039;s Irish Sports Bar | Walnut Creek, CA
BEGIN:VEVENT
DTSTART;TZID=America/Los_Angeles:20200808T220000
DTEND;TZID=America/Los_Angeles:20200808T230000
DTSTAMP:20260425T225535
CREATED:20200218T001245
LAST-MODIFIED:20200218T001245
UID:2135-1596924000-1596927600@dansbar.com
SUMMARY:Grooveline
DESCRIPTION:Disco party
URL:http://dansbar.com/event/grooveline/
END:VEVENT
END:VCALENDAR