BEGIN:VCALENDAR
VERSION:2.0
PRODID:-//Dan&#039;s Irish Sports Bar | Walnut Creek, CA - ECPv4.2.3//NONSGML v1.0//EN
CALSCALE:GREGORIAN
METHOD:PUBLISH
X-WR-CALNAME:Dan&#039;s Irish Sports Bar | Walnut Creek, CA
X-ORIGINAL-URL:http://dansbar.com
X-WR-CALDESC:Events for Dan&#039;s Irish Sports Bar | Walnut Creek, CA
BEGIN:VEVENT
DTSTART;TZID=America/Los_Angeles:20210727T200000
DTEND;TZID=America/Los_Angeles:20210727T220000
DTSTAMP:20260425T031606
CREATED:20210626T184705
LAST-MODIFIED:20210626T184705
UID:2226-1627416000-1627423200@dansbar.com
SUMMARY:Family Feud
DESCRIPTION:Game Night
URL:http://dansbar.com/event/family-feud-5/
END:VEVENT
END:VCALENDAR