BEGIN:VCALENDAR
VERSION:2.0
PRODID:-//Dan&#039;s Irish Sports Bar | Walnut Creek, CA - ECPv4.2.3//NONSGML v1.0//EN
CALSCALE:GREGORIAN
METHOD:PUBLISH
X-WR-CALNAME:Dan&#039;s Irish Sports Bar | Walnut Creek, CA
X-ORIGINAL-URL:http://dansbar.com
X-WR-CALDESC:Events for Dan&#039;s Irish Sports Bar | Walnut Creek, CA
BEGIN:VEVENT
DTSTART;TZID=America/Los_Angeles:20210831T200000
DTEND;TZID=America/Los_Angeles:20210831T220000
DTSTAMP:20260425T031700
CREATED:20210802T191344
LAST-MODIFIED:20210802T191344
UID:2241-1630440000-1630447200@dansbar.com
SUMMARY:Family Feud
DESCRIPTION:Bring a team and compete against others
URL:http://dansbar.com/event/family-feud-10/
END:VEVENT
END:VCALENDAR