BEGIN:VCALENDAR
VERSION:2.0
PRODID:-//Dan&#039;s Irish Sports Bar | Walnut Creek, CA - ECPv4.2.3//NONSGML v1.0//EN
CALSCALE:GREGORIAN
METHOD:PUBLISH
X-WR-CALNAME:Dan&#039;s Irish Sports Bar | Walnut Creek, CA
X-ORIGINAL-URL:http://dansbar.com
X-WR-CALDESC:Events for Dan&#039;s Irish Sports Bar | Walnut Creek, CA
BEGIN:VEVENT
DTSTART;TZID=America/Los_Angeles:20200731T220000
DTEND;TZID=America/Los_Angeles:20200731T230000
DTSTAMP:20260426T022648
CREATED:20200109T234904
LAST-MODIFIED:20200109T234904
UID:2112-1596232800-1596236400@dansbar.com
SUMMARY:Divalicious
DESCRIPTION:Dance party band
URL:http://dansbar.com/event/divalicious-3/
END:VEVENT
END:VCALENDAR