BEGIN:VCALENDAR
VERSION:2.0
PRODID:-//Dan&#039;s Irish Sports Bar | Walnut Creek, CA - ECPv4.2.3//NONSGML v1.0//EN
CALSCALE:GREGORIAN
METHOD:PUBLISH
X-WR-CALNAME:Dan&#039;s Irish Sports Bar | Walnut Creek, CA
X-ORIGINAL-URL:http://dansbar.com
X-WR-CALDESC:Events for Dan&#039;s Irish Sports Bar | Walnut Creek, CA
BEGIN:VEVENT
DTSTART;TZID=America/Los_Angeles:20210925T213000
DTEND;TZID=America/Los_Angeles:20210925T230000
DTSTAMP:20260425T013722
CREATED:20210521T204545
LAST-MODIFIED:20210920T205359
UID:2190-1632605400-1632610800@dansbar.com
SUMMARY:Hella Good
DESCRIPTION:Rock covers
URL:http://dansbar.com/event/careless-whisper-10/
END:VEVENT
END:VCALENDAR