BEGIN:VCALENDAR
VERSION:2.0
PRODID:-//Dan&#039;s Irish Sports Bar | Walnut Creek, CA - ECPv4.2.3//NONSGML v1.0//EN
CALSCALE:GREGORIAN
METHOD:PUBLISH
X-WR-CALNAME:Dan&#039;s Irish Sports Bar | Walnut Creek, CA
X-ORIGINAL-URL:http://dansbar.com
X-WR-CALDESC:Events for Dan&#039;s Irish Sports Bar | Walnut Creek, CA
BEGIN:VEVENT
DTSTART;TZID=America/Los_Angeles:20211001T213000
DTEND;TZID=America/Los_Angeles:20211001T230000
DTSTAMP:20260424T221906
CREATED:20210602T001217
LAST-MODIFIED:20210705T222703
UID:2207-1633123800-1633129200@dansbar.com
SUMMARY:Audiorage
DESCRIPTION:90s rock
URL:http://dansbar.com/event/audiorage-9/
END:VEVENT
END:VCALENDAR