BEGIN:VCALENDAR
VERSION:2.0
PRODID:-//Dan&#039;s Irish Sports Bar | Walnut Creek, CA - ECPv4.2.3//NONSGML v1.0//EN
CALSCALE:GREGORIAN
METHOD:PUBLISH
X-WR-CALNAME:Dan&#039;s Irish Sports Bar | Walnut Creek, CA
X-ORIGINAL-URL:http://dansbar.com
X-WR-CALDESC:Events for Dan&#039;s Irish Sports Bar | Walnut Creek, CA
BEGIN:VEVENT
DTSTART;TZID=America/Los_Angeles:20200725T220000
DTEND;TZID=America/Los_Angeles:20200725T230000
DTSTAMP:20260426T043523
CREATED:20200216T224339
LAST-MODIFIED:20200313T213447
UID:2131-1595714400-1595718000@dansbar.com
SUMMARY:Aqua Nett
DESCRIPTION:80s Arena rock
URL:http://dansbar.com/event/aqua-nett-15/
END:VEVENT
END:VCALENDAR