BEGIN:VCALENDAR
VERSION:2.0
PRODID:-//Dan&#039;s Irish Sports Bar | Walnut Creek, CA - ECPv4.2.3//NONSGML v1.0//EN
CALSCALE:GREGORIAN
METHOD:PUBLISH
X-WR-CALNAME:Dan&#039;s Irish Sports Bar | Walnut Creek, CA
X-ORIGINAL-URL:http://dansbar.com
X-WR-CALDESC:Events for Dan&#039;s Irish Sports Bar | Walnut Creek, CA
BEGIN:VEVENT
DTSTART;TZID=America/Los_Angeles:20210807T213000
DTEND;TZID=America/Los_Angeles:20210807T230000
DTSTAMP:20260425T031123
CREATED:20210521T203952
LAST-MODIFIED:20210521T203952
UID:2183-1628371800-1628377200@dansbar.com
SUMMARY:Alternative Ending
DESCRIPTION:Playing 90s alternative and grunge
URL:http://dansbar.com/event/alternative-ending-14/
END:VEVENT
END:VCALENDAR