BEGIN:VCALENDAR
VERSION:2.0
PRODID:-//Dan&#039;s Irish Sports Bar | Walnut Creek, CA - ECPv4.2.3//NONSGML v1.0//EN
CALSCALE:GREGORIAN
METHOD:PUBLISH
X-WR-CALNAME:Dan&#039;s Irish Sports Bar | Walnut Creek, CA
X-ORIGINAL-URL:http://dansbar.com
X-WR-CALDESC:Events for Dan&#039;s Irish Sports Bar | Walnut Creek, CA
BEGIN:VEVENT
DTSTART;TZID=America/Los_Angeles:20210821T213000
DTEND;TZID=America/Los_Angeles:20210821T230000
DTSTAMP:20260425T031545
CREATED:20210521T204109
LAST-MODIFIED:20210818T194340
UID:2185-1629581400-1629586800@dansbar.com
SUMMARY:Jukebox SF
DESCRIPTION:Rock band
URL:http://dansbar.com/event/against-the-grain-5/
END:VEVENT
END:VCALENDAR